BEGIN:VCALENDAR
VERSION:2.0
PRODID:-//eventon.com NONSGML v1.0//EN
CALSCALE:GREGORIAN
METHOD:PUBLISH
BEGIN:VEVENT
UID:69e9d71376b85
DTSTAMP:20260423T082347Z
DTSTART:20240523
DTEND:20240524
LOCATION:
SUMMARY:Lauf-\,  Bock- und Portalkran\,  Säulen-\,  Dreh- und Wandschwenkkran Mai 24 - 18UE - Standort St. Andrä
DESCRIPTION:Lauf-\,  Bock-und Portalkran\,  Säulen-\,  Dreh- und Wandschwe
 nkkran bis 300 kN Kursdatum 23.05.2024 08:00 &#8211; 17:00 Uhr 24.05.2024 0
 8:00 &#8211; 16:00 Uhr Voraussetzungen Personen ab 18 Jahren mit körperlic
 her und geistiger Eignung\,  sowie Kenntnis der deutschen Sprache. Mitzubri
 ngen Amtlicher Lichtbildausweis (Führerschein\,  Reisepass\,  Personalausw
 eis) Taschenrechner und Schreibzeug Sicherheitsschuhe für den praktischen 
 Unterricht[..]\nhttps://arcexpert.at/events/lauf-bock-und-portalkran-saeule
 n-dreh-und-wandschwenkkran-mai-24-18ue-standort-st-andrae
URL:https://arcexpert.at/events/lauf-bock-und-portalkran-saeulen-dreh-und-wandschwenkkran-mai-24-18ue-standort-st-andrae
END:VEVENT
END:VCALENDAR